BEGIN:VCALENDAR
VERSION:2.0
PRODID:-//Dixie Regional Team Penning Association - ECPv5.12.3//NONSGML v1.0//EN
CALSCALE:GREGORIAN
METHOD:PUBLISH
X-WR-CALNAME:Dixie Regional Team Penning Association
X-ORIGINAL-URL:http://www.drtpa.com
X-WR-CALDESC:Events for Dixie Regional Team Penning Association
REFRESH-INTERVAL;VALUE=DURATION:PT1H
X-Robots-Tag:noindex
X-PUBLISHED-TTL:PT1H
BEGIN:VTIMEZONE
TZID:America/Chicago
BEGIN:DAYLIGHT
TZOFFSETFROM:-0600
TZOFFSETTO:-0500
TZNAME:CDT
DTSTART:20260308T080000
END:DAYLIGHT
BEGIN:STANDARD
TZOFFSETFROM:-0500
TZOFFSETTO:-0600
TZNAME:CST
DTSTART:20261101T070000
END:STANDARD
END:VTIMEZONE
BEGIN:VEVENT
DTSTART;VALUE=DATE:20260425
DTEND;VALUE=DATE:20260427
DTSTAMP:20260420T223203
CREATED:20251230T013142Z
LAST-MODIFIED:20260324T013739Z
UID:5797-1777075200-1777247999@www.drtpa.com
SUMMARY:BCH Arena - Lorena\, TX
DESCRIPTION:Download Flyer
URL:http://www.drtpa.com/event/bch-arena-lorena-tx-13/
LOCATION:BCH Arena\, 1872 Birdie Lane\, Lorena\, TX\, 76655\, United States
END:VEVENT
BEGIN:VEVENT
DTSTART;VALUE=DATE:20260501
DTEND;VALUE=DATE:20260503
DTSTAMP:20260420T223203
CREATED:20260101T124417Z
LAST-MODIFIED:20260420T232842Z
UID:5841-1777593600-1777766399@www.drtpa.com
SUMMARY:T. Ed Garrison Arena - Pendleton\, SC
DESCRIPTION:Download Flyer
URL:http://www.drtpa.com/event/t-ed-garrison-arena-pendleton-sc/
LOCATION:T. Ed Garrison Arena\, 1101 West Queen St\, Pendleton\, SC\, 29670\, United States
END:VEVENT
BEGIN:VEVENT
DTSTART;VALUE=DATE:20260501
DTEND;VALUE=DATE:20260503
DTSTAMP:20260420T223203
CREATED:20260421T031826Z
LAST-MODIFIED:20260421T031826Z
UID:6174-1777593600-1777766399@www.drtpa.com
SUMMARY:Running K Livestock Arena - Dunnellon\, FL
DESCRIPTION:Download Flyer
URL:http://www.drtpa.com/event/running-k-livestock-arena-dunnellon-fl/
LOCATION:Running K Livestock Arena\, 6299 W. Nebula Ct.\, Dunnellon\, FL\, United States
END:VEVENT
BEGIN:VEVENT
DTSTART;VALUE=DATE:20260509
DTEND;VALUE=DATE:20260510
DTSTAMP:20260420T223203
CREATED:20251230T021725Z
LAST-MODIFIED:20260420T233242Z
UID:5821-1778284800-1778371199@www.drtpa.com
SUMMARY:No Name Arena - Alexander\, AR
DESCRIPTION:Download Flyer
URL:http://www.drtpa.com/event/no-name-arena-alexander-ar-8/
LOCATION:No Name Arena\, 3221 Northlake Road\, Bryant\, AR\, 72002\, United States
END:VEVENT
BEGIN:VEVENT
DTSTART;VALUE=DATE:20260515
DTEND;VALUE=DATE:20260518
DTSTAMP:20260420T223203
CREATED:20251230T022437Z
LAST-MODIFIED:20260420T234352Z
UID:5831-1778803200-1779062399@www.drtpa.com
SUMMARY:5K - Bladenboro\, NC
DESCRIPTION:Download Flyer
URL:http://www.drtpa.com/event/5k-bladenboro-nc-7/
LOCATION:5K Arena\, 2020 Marsh Road\, Bladenboro\, NC\, 28320-7842
END:VEVENT
BEGIN:VEVENT
DTSTART;VALUE=DATE:20260516
DTEND;VALUE=DATE:20260518
DTSTAMP:20260420T223203
CREATED:20251230T013251Z
LAST-MODIFIED:20251230T013251Z
UID:5799-1778889600-1779062399@www.drtpa.com
SUMMARY:BCH Arena - Lorena\, TX
DESCRIPTION:
URL:http://www.drtpa.com/event/bch-arena-lorena-tx-14/
LOCATION:BCH Arena\, 1872 Birdie Lane\, Lorena\, TX\, 76655\, United States
END:VEVENT
BEGIN:VEVENT
DTSTART;VALUE=DATE:20260523
DTEND;VALUE=DATE:20260525
DTSTAMP:20260420T223203
CREATED:20260130T140518Z
LAST-MODIFIED:20260421T032146Z
UID:5907-1779494400-1779667199@www.drtpa.com
SUMMARY:DJ Cow Horses - Scott County - Forest Colesium
DESCRIPTION:Download Flyer
URL:http://www.drtpa.com/event/dj-cow-horses-arena-tbd/
LOCATION:Scott County/Forest Coliseum\, 151 Earl Johnston Drive\, Forest\, MS\, 39074\, United States
END:VEVENT
BEGIN:VEVENT
DTSTART;VALUE=DATE:20260530
DTEND;VALUE=DATE:20260601
DTSTAMP:20260420T223203
CREATED:20260101T125009Z
LAST-MODIFIED:20260101T125009Z
UID:5847-1780099200-1780271999@www.drtpa.com
SUMMARY:BSC Arena - Waynesboro\, GA
DESCRIPTION:
URL:http://www.drtpa.com/event/bsc-arena-waynesboro-ga/
LOCATION:BSC Arena\, 3976 Hwy 24 South\, Waynesboro\, GA\, 30830
END:VEVENT
BEGIN:VEVENT
DTSTART;VALUE=DATE:20260620
DTEND;VALUE=DATE:20260622
DTSTAMP:20260420T223203
CREATED:20251230T013400Z
LAST-MODIFIED:20251230T013400Z
UID:5801-1781913600-1782086399@www.drtpa.com
SUMMARY:BCH Arena - Lorena\, TX
DESCRIPTION:
URL:http://www.drtpa.com/event/bch-arena-lorena-tx-15/
LOCATION:BCH Arena\, 1872 Birdie Lane\, Lorena\, TX\, 76655\, United States
END:VEVENT
BEGIN:VEVENT
DTSTART;VALUE=DATE:20260801
DTEND;VALUE=DATE:20260803
DTSTAMP:20260420T223203
CREATED:20251230T013504Z
LAST-MODIFIED:20251230T013504Z
UID:5803-1785542400-1785715199@www.drtpa.com
SUMMARY:BCH Arena - Lorena\, TX
DESCRIPTION:
URL:http://www.drtpa.com/event/bch-arena-lorena-tx-16/
LOCATION:BCH Arena\, 1872 Birdie Lane\, Lorena\, TX\, 76655\, United States
END:VEVENT
BEGIN:VEVENT
DTSTART;VALUE=DATE:20260807
DTEND;VALUE=DATE:20260810
DTSTAMP:20260420T223203
CREATED:20260101T125150Z
LAST-MODIFIED:20260101T125150Z
UID:5849-1786060800-1786319999@www.drtpa.com
SUMMARY:BSC Arena - Waynesboro\, GA
DESCRIPTION:
URL:http://www.drtpa.com/event/bsc-arena-waynesboro-ga-2/
LOCATION:BSC Arena\, 3976 Hwy 24 South\, Waynesboro\, GA\, 30830
END:VEVENT
BEGIN:VEVENT
DTSTART;VALUE=DATE:20260822
DTEND;VALUE=DATE:20260824
DTSTAMP:20260420T223203
CREATED:20251230T013603Z
LAST-MODIFIED:20251230T013603Z
UID:5805-1787356800-1787529599@www.drtpa.com
SUMMARY:BCH Arena - Lorena\, TX
DESCRIPTION:
URL:http://www.drtpa.com/event/bch-arena-lorena-tx-17/
LOCATION:BCH Arena\, 1872 Birdie Lane\, Lorena\, TX\, 76655\, United States
END:VEVENT
BEGIN:VEVENT
DTSTART;VALUE=DATE:20260904
DTEND;VALUE=DATE:20260907
DTSTAMP:20260420T223203
CREATED:20260101T125254Z
LAST-MODIFIED:20260101T125254Z
UID:5851-1788480000-1788739199@www.drtpa.com
SUMMARY:BSC Arena - Waynesboro\, GA
DESCRIPTION:
URL:http://www.drtpa.com/event/bsc-arena-waynesboro-ga-3/
LOCATION:BSC Arena\, 3976 Hwy 24 South\, Waynesboro\, GA\, 30830
END:VEVENT
BEGIN:VEVENT
DTSTART;VALUE=DATE:20260912
DTEND;VALUE=DATE:20260913
DTSTAMP:20260420T223203
CREATED:20251230T021822Z
LAST-MODIFIED:20251230T021822Z
UID:5823-1789171200-1789257599@www.drtpa.com
SUMMARY:No Name Arena - Alexander\, AR
DESCRIPTION:
URL:http://www.drtpa.com/event/no-name-arena-alexander-ar-14/
LOCATION:No Name Arena\, 3221 Northlake Road\, Bryant\, AR\, 72002\, United States
END:VEVENT
BEGIN:VEVENT
DTSTART;VALUE=DATE:20260919
DTEND;VALUE=DATE:20260920
DTSTAMP:20260420T223203
CREATED:20260130T140618Z
LAST-MODIFIED:20260130T140618Z
UID:5912-1789776000-1789862399@www.drtpa.com
SUMMARY:DJ Cow Horses - McCool\, MS
DESCRIPTION:
URL:http://www.drtpa.com/event/dj-cow-horses-mccool-ms-10/
LOCATION:DJ Cowhorses\, 28081 Highway 12\, McCool\, MS\, 39108
END:VEVENT
BEGIN:VEVENT
DTSTART;VALUE=DATE:20260926
DTEND;VALUE=DATE:20260928
DTSTAMP:20260420T223203
CREATED:20251230T013727Z
LAST-MODIFIED:20251230T013727Z
UID:5807-1790380800-1790553599@www.drtpa.com
SUMMARY:BCH Arena - Lorena\, TX
DESCRIPTION:
URL:http://www.drtpa.com/event/bch-arena-lorena-tx-18/
LOCATION:BCH Arena\, 1872 Birdie Lane\, Lorena\, TX\, 76655\, United States
END:VEVENT
BEGIN:VEVENT
DTSTART;VALUE=DATE:20261002
DTEND;VALUE=DATE:20261005
DTSTAMP:20260420T223203
CREATED:20251230T022525Z
LAST-MODIFIED:20251230T022525Z
UID:5833-1790899200-1791158399@www.drtpa.com
SUMMARY:5K - Bladenboro\, NC
DESCRIPTION:
URL:http://www.drtpa.com/event/5k-bladenboro-nc-8/
LOCATION:5K Arena\, 2020 Marsh Road\, Bladenboro\, NC\, 28320-7842
END:VEVENT
BEGIN:VEVENT
DTSTART;VALUE=DATE:20261010
DTEND;VALUE=DATE:20261011
DTSTAMP:20260420T223203
CREATED:20251230T021914Z
LAST-MODIFIED:20251230T021914Z
UID:5825-1791590400-1791676799@www.drtpa.com
SUMMARY:No Name Arena - Alexander\, AR
DESCRIPTION:
URL:http://www.drtpa.com/event/no-name-arena-alexander-ar-15/
LOCATION:No Name Arena\, 3221 Northlake Road\, Bryant\, AR\, 72002\, United States
END:VEVENT
BEGIN:VEVENT
DTSTART;VALUE=DATE:20261017
DTEND;VALUE=DATE:20261018
DTSTAMP:20260420T223203
CREATED:20260130T140709Z
LAST-MODIFIED:20260130T140709Z
UID:5918-1792195200-1792281599@www.drtpa.com
SUMMARY:DJ Cow Horses - McCool\, MS
DESCRIPTION:
URL:http://www.drtpa.com/event/dj-cow-horses-mccool-ms-11/
LOCATION:DJ Cowhorses\, 28081 Highway 12\, McCool\, MS\, 39108
END:VEVENT
BEGIN:VEVENT
DTSTART;VALUE=DATE:20261024
DTEND;VALUE=DATE:20261026
DTSTAMP:20260420T223203
CREATED:20251230T013852Z
LAST-MODIFIED:20251230T013852Z
UID:5809-1792800000-1792972799@www.drtpa.com
SUMMARY:BCH Arena - Lorena\, TX
DESCRIPTION:
URL:http://www.drtpa.com/event/bch-arena-lorena-tx-19/
LOCATION:BCH Arena\, 1872 Birdie Lane\, Lorena\, TX\, 76655\, United States
END:VEVENT
BEGIN:VEVENT
DTSTART;VALUE=DATE:20261024
DTEND;VALUE=DATE:20261026
DTSTAMP:20260420T223203
CREATED:20260101T125409Z
LAST-MODIFIED:20260101T125409Z
UID:5853-1792800000-1792972799@www.drtpa.com
SUMMARY:BSC Arena - Waynesboro\, GA
DESCRIPTION:
URL:http://www.drtpa.com/event/bsc-arena-waynesboro-ga-4/
LOCATION:BSC Arena\, 3976 Hwy 24 South\, Waynesboro\, GA\, 30830
END:VEVENT
BEGIN:VEVENT
DTSTART;VALUE=DATE:20261107
DTEND;VALUE=DATE:20261109
DTSTAMP:20260420T223203
CREATED:20260101T124840Z
LAST-MODIFIED:20260101T124840Z
UID:5845-1794009600-1794182399@www.drtpa.com
SUMMARY:T. Ed Garrison Arena - Pendleton\, SC
DESCRIPTION:
URL:http://www.drtpa.com/event/t-ed-garrison-arena-pendleton-sc-2/
LOCATION:T. Ed Garrison Arena\, 1101 West Queen St\, Pendleton\, SC\, 29670\, United States
END:VEVENT
BEGIN:VEVENT
DTSTART;VALUE=DATE:20261114
DTEND;VALUE=DATE:20261115
DTSTAMP:20260420T223203
CREATED:20251230T022019Z
LAST-MODIFIED:20251230T022019Z
UID:5827-1794614400-1794700799@www.drtpa.com
SUMMARY:No Name Arena - Alexander\, AR
DESCRIPTION:
URL:http://www.drtpa.com/event/no-name-arena-alexander-ar-16/
LOCATION:No Name Arena\, 3221 Northlake Road\, Bryant\, AR\, 72002\, United States
END:VEVENT
BEGIN:VEVENT
DTSTART;VALUE=DATE:20261114
DTEND;VALUE=DATE:20261115
DTSTAMP:20260420T223203
CREATED:20260130T140752Z
LAST-MODIFIED:20260130T140752Z
UID:5921-1794614400-1794700799@www.drtpa.com
SUMMARY:DJ Cow Horses - McCool\, MS
DESCRIPTION:
URL:http://www.drtpa.com/event/dj-cow-horses-mccool-ms-12/
LOCATION:DJ Cowhorses\, 28081 Highway 12\, McCool\, MS\, 39108
END:VEVENT
BEGIN:VEVENT
DTSTART;VALUE=DATE:20261120
DTEND;VALUE=DATE:20261123
DTSTAMP:20260420T223203
CREATED:20251230T022645Z
LAST-MODIFIED:20251230T022645Z
UID:5835-1795132800-1795391999@www.drtpa.com
SUMMARY:5K - Bladenboro\, NC
DESCRIPTION:
URL:http://www.drtpa.com/event/5k-bladenboro-nc-9/
LOCATION:5K Arena\, 2020 Marsh Road\, Bladenboro\, NC\, 28320-7842
END:VEVENT
BEGIN:VEVENT
DTSTART;VALUE=DATE:20261121
DTEND;VALUE=DATE:20261123
DTSTAMP:20260420T223203
CREATED:20251230T014124Z
LAST-MODIFIED:20251230T014124Z
UID:5811-1795219200-1795391999@www.drtpa.com
SUMMARY:BCH Arena - Lorena\, TX
DESCRIPTION:
URL:http://www.drtpa.com/event/bch-arena-lorena-tx-20/
LOCATION:BCH Arena\, 1872 Birdie Lane\, Lorena\, TX\, 76655\, United States
END:VEVENT
BEGIN:VEVENT
DTSTART;VALUE=DATE:20261219
DTEND;VALUE=DATE:20261221
DTSTAMP:20260420T223204
CREATED:20251230T014303Z
LAST-MODIFIED:20251230T014303Z
UID:5813-1797638400-1797811199@www.drtpa.com
SUMMARY:BCH Arena - Lorena\, TX
DESCRIPTION:
URL:http://www.drtpa.com/event/bch-arena-lorena-tx-21/
LOCATION:BCH Arena\, 1872 Birdie Lane\, Lorena\, TX\, 76655\, United States
END:VEVENT
END:VCALENDAR